BEGIN:VCALENDAR
VERSION:2.0
PRODID:-//Rover Freunde - ECPv6.15.20//NONSGML v1.0//EN
CALSCALE:GREGORIAN
METHOD:PUBLISH
X-ORIGINAL-URL:https://rover-freunde.de
X-WR-CALDESC:Veranstaltungen für Rover Freunde
REFRESH-INTERVAL;VALUE=DURATION:PT1H
X-Robots-Tag:noindex
X-PUBLISHED-TTL:PT1H
BEGIN:VTIMEZONE
TZID:Europe/Berlin
BEGIN:DAYLIGHT
TZOFFSETFROM:+0100
TZOFFSETTO:+0200
TZNAME:CEST
DTSTART:20260329T010000
END:DAYLIGHT
BEGIN:STANDARD
TZOFFSETFROM:+0200
TZOFFSETTO:+0100
TZNAME:CET
DTSTART:20261025T010000
END:STANDARD
BEGIN:DAYLIGHT
TZOFFSETFROM:+0100
TZOFFSETTO:+0200
TZNAME:CEST
DTSTART:20270328T010000
END:DAYLIGHT
BEGIN:STANDARD
TZOFFSETFROM:+0200
TZOFFSETTO:+0100
TZNAME:CET
DTSTART:20271031T010000
END:STANDARD
BEGIN:DAYLIGHT
TZOFFSETFROM:+0100
TZOFFSETTO:+0200
TZNAME:CEST
DTSTART:20280326T010000
END:DAYLIGHT
BEGIN:STANDARD
TZOFFSETFROM:+0200
TZOFFSETTO:+0100
TZNAME:CET
DTSTART:20281029T010000
END:STANDARD
END:VTIMEZONE
BEGIN:VEVENT
DTSTART;TZID=Europe/Berlin:20270506T080000
DTEND;TZID=Europe/Berlin:20270509T170000
DTSTAMP:20260423T050919
CREATED:20251207T133457Z
LAST-MODIFIED:20251207T133502Z
UID:2322-1809590400-1809882000@rover-freunde.de
SUMMARY:Internationales Rovertreffen 2027 in Deutschland
DESCRIPTION:2027 richten die Rover Freunde Deutschland das internationale Rovertreffen aus. \n\n\n\nOrt und Ablauf werden wir rechtzeitig veröffentlichen\, merkt Euch den Termin schon mal vor.
URL:https://rover-freunde.de/event/internationales-rovertreffen-2027-in-deutschland/
END:VEVENT
END:VCALENDAR