BEGIN:VCALENDAR
VERSION:2.0
PRODID:-//Rover Freunde - ECPv6.15.20//NONSGML v1.0//EN
CALSCALE:GREGORIAN
METHOD:PUBLISH
X-ORIGINAL-URL:https://rover-freunde.de
X-WR-CALDESC:Veranstaltungen für Rover Freunde
REFRESH-INTERVAL;VALUE=DURATION:PT1H
X-Robots-Tag:noindex
X-PUBLISHED-TTL:PT1H
BEGIN:VTIMEZONE
TZID:Europe/Berlin
BEGIN:DAYLIGHT
TZOFFSETFROM:+0100
TZOFFSETTO:+0200
TZNAME:CEST
DTSTART:20250330T010000
END:DAYLIGHT
BEGIN:STANDARD
TZOFFSETFROM:+0200
TZOFFSETTO:+0100
TZNAME:CET
DTSTART:20251026T010000
END:STANDARD
BEGIN:DAYLIGHT
TZOFFSETFROM:+0100
TZOFFSETTO:+0200
TZNAME:CEST
DTSTART:20260329T010000
END:DAYLIGHT
BEGIN:STANDARD
TZOFFSETFROM:+0200
TZOFFSETTO:+0100
TZNAME:CET
DTSTART:20261025T010000
END:STANDARD
BEGIN:DAYLIGHT
TZOFFSETFROM:+0100
TZOFFSETTO:+0200
TZNAME:CEST
DTSTART:20270328T010000
END:DAYLIGHT
BEGIN:STANDARD
TZOFFSETFROM:+0200
TZOFFSETTO:+0100
TZNAME:CET
DTSTART:20271031T010000
END:STANDARD
END:VTIMEZONE
BEGIN:VEVENT
DTSTART;TZID=Europe/Berlin:20260731T080000
DTEND;TZID=Europe/Berlin:20260802T170000
DTSTAMP:20260423T005056
CREATED:20251206T173019Z
LAST-MODIFIED:20251206T173024Z
UID:2314-1785484800-1785690000@rover-freunde.de
SUMMARY:Grand Meeting (Classic Days)
DESCRIPTION:
URL:https://rover-freunde.de/event/grand-meeting-classic-days/
END:VEVENT
BEGIN:VEVENT
DTSTART;TZID=Europe/Berlin:20260807T080000
DTEND;TZID=Europe/Berlin:20260809T170000
DTSTAMP:20260423T005056
CREATED:20251206T172540Z
LAST-MODIFIED:20251206T172544Z
UID:2308-1786089600-1786294800@rover-freunde.de
SUMMARY:Oldtimer Grand Prix
DESCRIPTION:
URL:https://rover-freunde.de/event/oldtimer-grand-prix/
LOCATION:Nürburgring\, Eifel-Ardennen-Straße\, Nürburg\, 53520\, Deutschland
END:VEVENT
BEGIN:VEVENT
DTSTART;TZID=Europe/Berlin:20260816T080000
DTEND;TZID=Europe/Berlin:20260816T170000
DTSTAMP:20260423T005056
CREATED:20251206T173307Z
LAST-MODIFIED:20251206T173312Z
UID:2316-1786867200-1786899600@rover-freunde.de
SUMMARY:Zeitblende 1976
DESCRIPTION:Freilichtmuseum Kommern
URL:https://rover-freunde.de/event/zeitblende-1976/
END:VEVENT
END:VCALENDAR