BEGIN:VCALENDAR
VERSION:2.0
PRODID:-//Rover Freunde - ECPv6.15.20//NONSGML v1.0//EN
CALSCALE:GREGORIAN
METHOD:PUBLISH
X-WR-CALNAME:Rover Freunde
X-ORIGINAL-URL:https://rover-freunde.de
X-WR-CALDESC:Veranstaltungen für Rover Freunde
REFRESH-INTERVAL;VALUE=DURATION:PT1H
X-Robots-Tag:noindex
X-PUBLISHED-TTL:PT1H
BEGIN:VTIMEZONE
TZID:Europe/Berlin
BEGIN:DAYLIGHT
TZOFFSETFROM:+0100
TZOFFSETTO:+0200
TZNAME:CEST
DTSTART:20250330T010000
END:DAYLIGHT
BEGIN:STANDARD
TZOFFSETFROM:+0200
TZOFFSETTO:+0100
TZNAME:CET
DTSTART:20251026T010000
END:STANDARD
BEGIN:DAYLIGHT
TZOFFSETFROM:+0100
TZOFFSETTO:+0200
TZNAME:CEST
DTSTART:20260329T010000
END:DAYLIGHT
BEGIN:STANDARD
TZOFFSETFROM:+0200
TZOFFSETTO:+0100
TZNAME:CET
DTSTART:20261025T010000
END:STANDARD
BEGIN:DAYLIGHT
TZOFFSETFROM:+0100
TZOFFSETTO:+0200
TZNAME:CEST
DTSTART:20270328T010000
END:DAYLIGHT
BEGIN:STANDARD
TZOFFSETFROM:+0200
TZOFFSETTO:+0100
TZNAME:CET
DTSTART:20271031T010000
END:STANDARD
END:VTIMEZONE
BEGIN:VEVENT
DTSTART;TZID=Europe/Berlin:20260719T100000
DTEND;TZID=Europe/Berlin:20260719T160000
DTSTAMP:20260422T235616
CREATED:20260405T155158Z
LAST-MODIFIED:20260405T155204Z
UID:2407-1784455200-1784476800@rover-freunde.de
SUMMARY:British Cars & Motorcycles Meeting
DESCRIPTION:
URL:https://rover-freunde.de/event/british-cars-motorcycles-meeting/
LOCATION:Mo´s Bikertreff\, Kleinewefersstrasse 160\, Krefeld
END:VEVENT
BEGIN:VEVENT
DTSTART;TZID=Europe/Berlin:20260731T080000
DTEND;TZID=Europe/Berlin:20260802T170000
DTSTAMP:20260422T235616
CREATED:20251206T173019Z
LAST-MODIFIED:20251206T173024Z
UID:2314-1785484800-1785690000@rover-freunde.de
SUMMARY:Grand Meeting (Classic Days)
DESCRIPTION:
URL:https://rover-freunde.de/event/grand-meeting-classic-days/
END:VEVENT
END:VCALENDAR