BEGIN:VCALENDAR
VERSION:2.0
PRODID:-//Rover Freunde - ECPv6.15.20//NONSGML v1.0//EN
CALSCALE:GREGORIAN
METHOD:PUBLISH
X-ORIGINAL-URL:https://rover-freunde.de
X-WR-CALDESC:Veranstaltungen für Rover Freunde
REFRESH-INTERVAL;VALUE=DURATION:PT1H
X-Robots-Tag:noindex
X-PUBLISHED-TTL:PT1H
BEGIN:VTIMEZONE
TZID:Europe/Berlin
BEGIN:DAYLIGHT
TZOFFSETFROM:+0100
TZOFFSETTO:+0200
TZNAME:CEST
DTSTART:20250330T010000
END:DAYLIGHT
BEGIN:STANDARD
TZOFFSETFROM:+0200
TZOFFSETTO:+0100
TZNAME:CET
DTSTART:20251026T010000
END:STANDARD
BEGIN:DAYLIGHT
TZOFFSETFROM:+0100
TZOFFSETTO:+0200
TZNAME:CEST
DTSTART:20260329T010000
END:DAYLIGHT
BEGIN:STANDARD
TZOFFSETFROM:+0200
TZOFFSETTO:+0100
TZNAME:CET
DTSTART:20261025T010000
END:STANDARD
BEGIN:DAYLIGHT
TZOFFSETFROM:+0100
TZOFFSETTO:+0200
TZNAME:CEST
DTSTART:20270328T010000
END:DAYLIGHT
BEGIN:STANDARD
TZOFFSETFROM:+0200
TZOFFSETTO:+0100
TZNAME:CET
DTSTART:20271031T010000
END:STANDARD
END:VTIMEZONE
BEGIN:VEVENT
DTSTART;TZID=Europe/Berlin:20260405T080000
DTEND;TZID=Europe/Berlin:20260613T170000
DTSTAMP:20260422T214702
CREATED:20260405T154711Z
LAST-MODIFIED:20260405T154717Z
UID:2402-1775376000-1781370000@rover-freunde.de
SUMMARY:Taxatiedag - noch nicht bestätigt
DESCRIPTION:BEWERTUNGSTAG 2025 bei Classic-Rover Parts in Almelo \n\n\n\nJeder ist herzlich willkommen\, auch wenn Sie nichts zu bewerten haben … kommen Sie einfach vorbei und werfen Sie einen Blick auf die Klassiker\, die spontan ihren Weg zu dieser Veranstaltung gefunden haben. Es ist erstaunlich\, was jedes Jahr zu sehen ist! \n\n\n\nDer Tag hat einen „offenen und informellen“ Charakter; es wird wieder einmal viel im Bereich klassischer Automobile und verwandter Themen zu sehen geben!
URL:https://rover-freunde.de/event/taxatiedag-noch-nicht-bestaetigt/
LOCATION:Almelo/NL\, Bedrijvenpark Twente 57\, ALMELO\, 7602KC\, Netherlands
END:VEVENT
BEGIN:VEVENT
DTSTART;TZID=Europe/Berlin:20260528T080000
DTEND;TZID=Europe/Berlin:20260528T233000
DTSTAMP:20260422T214702
CREATED:20251206T172148Z
LAST-MODIFIED:20251206T172154Z
UID:2301-1779955200-1780011000@rover-freunde.de
SUMMARY:Internationales Rover Treffen 2026
DESCRIPTION:Treffen von Rover Fans aus den verschiedenen Clubs auf dem Kontinent. Dieses Jahr organisiert von dem Rover Owners Club Holland. \n\n\n\nDetails und die Beschreibung findet Ihr hier.
URL:https://rover-freunde.de/event/internationales-rover-treffen-2026/
LOCATION:Valkenburg\, Valkenburg\, Netherlands
END:VEVENT
BEGIN:VEVENT
DTSTART;TZID=Europe/Berlin:20260529T080000
DTEND;TZID=Europe/Berlin:20260531T170000
DTSTAMP:20260422T214702
CREATED:20251019T153312Z
LAST-MODIFIED:20251019T153323Z
UID:2285-1780041600-1780246800@rover-freunde.de
SUMMARY:Rover P5-Treffen 2026 in Lübeck
DESCRIPTION:Treffen der Rover P5 Fahrer in Lübeck
URL:https://rover-freunde.de/event/rover-p5-treffen-2026-in-luebeck/
LOCATION:Lübeck\, Lübeck\, Germany
END:VEVENT
END:VCALENDAR